Package: basilisk
Version: 1.13.4
Command: /home/biocbuild/bbs-3.18-bioc/R/bin/Rscript -e "BiocCheck::BiocCheck('basilisk_1.13.4.tar.gz')"
StartedAt: 2023-10-24 10:46:02 -0400 (Tue, 24 Oct 2023)
EndedAt: 2023-10-24 10:46:20 -0400 (Tue, 24 Oct 2023)
EllapsedTime: 18.0 seconds
RetCode: None
Status: WARNINGS
Warnings: 3