##############################################################################
##############################################################################
###
### Running command:
###
###   /home/hpages/bbs-3.18-bioc-R41/R/bin/R CMD build --keep-empty-dirs --no-resave-data Rgraphviz
###
##############################################################################
##############################################################################


* checking for file ‘Rgraphviz/DESCRIPTION’ ... OK
* preparing ‘Rgraphviz’:
* checking DESCRIPTION meta-information ... OK
* cleaning src
* running ‘cleanup’
* installing the package to build vignettes
* creating vignettes ... OK
* cleaning src
* running ‘cleanup’
* checking for LF line-endings in source and make files and shell scripts
* checking for empty or unneeded directories
* building ‘Rgraphviz_2.46.0.tar.gz’
Warning in sprintf(gettext(fmt, domain = domain), ...) :
  one argument not used by format 'invalid uid value replaced by that for user 'nobody''
Warning: invalid uid value replaced by that for user 'nobody'
Warning in sprintf(gettext(fmt, domain = domain), ...) :
  one argument not used by format 'invalid gid value replaced by that for user 'nobody''
Warning: invalid gid value replaced by that for user 'nobody'