Package: AnnotationDbi Version: 1.64.1 Command: /home/hpages/bbs-3.18-bioc-R41/R/bin/R CMD build --keep-empty-dirs --no-resave-data AnnotationDbi StartedAt: 2024-03-08 15:41:31 -0500 (Fri, 08 Mar 2024) EndedAt: 2024-03-08 15:42:35 -0500 (Fri, 08 Mar 2024) EllapsedTime: 63.7 seconds RetCode: 0 Status: OK PackageFile: AnnotationDbi_1.64.1.tar.gz PackageFileSize: 4.158 <A href="http://en.wikipedia.org/wiki/MiB" target="_blank">MiB</A>