Package: segmentSeq
Version: 2.36.0
Command: rm -rf segmentSeq.buildbin-libdir && mkdir segmentSeq.buildbin-libdir && /Users/biocbuild/BBS/utils/build-universal.sh segmentSeq_2.36.0.tar.gz /Library/Frameworks/R.framework/Resources/bin/R segmentSeq.buildbin-libdir
StartedAt: 2024-04-18 11:14:41 -0400 (Thu, 18 Apr 2024)
EndedAt: 2024-04-18 11:15:38 -0400 (Thu, 18 Apr 2024)
EllapsedTime: 56.6 seconds
RetCode: 0
Status: OK
PackageFile: segmentSeq_2.36.0.tgz
PackageFileSize: 3.538 <A href="http://en.wikipedia.org/wiki/MiB" target="_blank">MiB</A>