##############################################################################
##############################################################################
###
### Running command:
###
###   /home/biocbuild/bbs-3.18-bioc/R/bin/R CMD build --keep-empty-dirs --no-resave-data --no-build-vignettes --no-manual DelayedMatrixStats
###
##############################################################################
##############################################################################


* checking for file ‘DelayedMatrixStats/DESCRIPTION’ ... OK
* preparing ‘DelayedMatrixStats’:
* checking DESCRIPTION meta-information ... OK
* checking for LF line-endings in source and make files and shell scripts
* checking for empty or unneeded directories
WARNING: directory ‘DelayedMatrixStats/longtests’ is empty
WARNING: directory ‘DelayedMatrixStats/man-roxygen’ is empty
* building ‘DelayedMatrixStats_1.24.0.tar.gz’