Package: segmentSeq
Version: 2.36.0
Command: rm -rf segmentSeq.buildbin-libdir && mkdir segmentSeq.buildbin-libdir && /Users/biocbuild/BBS/utils/build-universal.sh segmentSeq_2.36.0.tar.gz /Library/Frameworks/R.framework/Resources/bin/R segmentSeq.buildbin-libdir
StartedAt: 2024-03-04 01:03:59 -0500 (Mon, 04 Mar 2024)
EndedAt: 2024-03-04 01:04:56 -0500 (Mon, 04 Mar 2024)
EllapsedTime: 57.3 seconds
RetCode: 0
Status: OK
PackageFile: segmentSeq_2.36.0.tgz
PackageFileSize: 3.537 <A href="http://en.wikipedia.org/wiki/MiB" target="_blank">MiB</A>