Package: compcodeR Version: 1.38.0 Command: chmod a+r compcodeR -R && F:\biocbuild\bbs-3.18-bioc\R\bin\R.exe CMD build --keep-empty-dirs --no-resave-data compcodeR StartedAt: 2024-04-15 17:43:43 -0400 (Mon, 15 Apr 2024) EndedAt: 2024-04-15 17:44:20 -0400 (Mon, 15 Apr 2024) EllapsedTime: 37.2 seconds RetCode: 0 Status: OK PackageFile: compcodeR_1.38.0.tar.gz PackageFileSize: 4.687 MiB