Package: compcodeR Version: 1.38.0 Command: rm -rf compcodeR.buildbin-libdir && mkdir compcodeR.buildbin-libdir && F:\biocbuild\bbs-3.18-bioc\R\bin\R.exe CMD INSTALL --build --library=compcodeR.buildbin-libdir compcodeR_1.38.0.tar.gz StartedAt: 2024-04-16 06:50:31 -0400 (Tue, 16 Apr 2024) EndedAt: 2024-04-16 06:50:57 -0400 (Tue, 16 Apr 2024) EllapsedTime: 25.7 seconds RetCode: 0 Status: OK PackageFile: compcodeR_1.38.0.zip PackageFileSize: 2.645 MiB