Package: SubCellBarCode
Version: 1.18.0
Command: /home/biocbuild/bbs-3.18-bioc/R/bin/R CMD INSTALL SubCellBarCode
StartedAt: 2024-04-15 15:41:14 -0400 (Mon, 15 Apr 2024)
EndedAt: 2024-04-15 15:41:39 -0400 (Mon, 15 Apr 2024)
EllapsedTime: 25.3 seconds
RetCode: 0
Status: OK