Package: ReactomeContentService4R
Version: 1.10.0
Command: /home/biocbuild/bbs-3.18-bioc/R/bin/R CMD INSTALL ReactomeContentService4R
StartedAt: 2024-04-15 15:11:21 -0400 (Mon, 15 Apr 2024)
EndedAt: 2024-04-15 15:11:24 -0400 (Mon, 15 Apr 2024)
EllapsedTime: 3.3 seconds
RetCode: 0
Status: OK