Package: NanoStringDiff
Version: 1.32.0
Command: /home/biocbuild/bbs-3.18-bioc/R/bin/R CMD build --keep-empty-dirs --no-resave-data NanoStringDiff
StartedAt: 2024-04-15 18:09:58 -0400 (Mon, 15 Apr 2024)
EndedAt: 2024-04-15 18:10:19 -0400 (Mon, 15 Apr 2024)
EllapsedTime: 20.6 seconds
RetCode: 0
Status: OK
PackageFile: NanoStringDiff_1.32.0.tar.gz
PackageFileSize: 276.7 <A href="http://en.wikipedia.org/wiki/KiB" target="_blank">KiB</A>