Package: arrays
Version: 1.26.0
Command: /home/biocbuild/bbs-3.17-bioc/R/bin/R CMD build --keep-empty-dirs --no-resave-data arrays
StartedAt: 2023-10-13 08:02:50 -0400 (Fri, 13 Oct 2023)
EndedAt: 2023-10-13 08:03:16 -0400 (Fri, 13 Oct 2023)
EllapsedTime: 25.3 seconds
RetCode: 0
Status: OK
PackageFile: arrays_1.26.0.tar.gz
PackageFileSize: 9.64 <A href="http://en.wikipedia.org/wiki/MiB" target="_blank">MiB</A>