Package: structToolbox
Version: 1.11.0
Command: /home/biocbuild/bbs-3.17-bioc/R/bin/R CMD build --keep-empty-dirs --no-resave-data structToolbox
StartedAt: 2023-04-11 18:09:31 -0400 (Tue, 11 Apr 2023)
EndedAt: 2023-04-11 18:20:39 -0400 (Tue, 11 Apr 2023)
EllapsedTime: 667.5 seconds
RetCode: 0
Status: OK
PackageFile: structToolbox_1.11.0.tar.gz
PackageFileSize: 4.563 <A href="http://en.wikipedia.org/wiki/MiB" target="_blank">MiB</A>