Package: sparseDOSSA Version: 1.23.0 Command: /home/biocbuild/bbs-3.17-bioc/R/bin/R CMD build --keep-empty-dirs --no-resave-data sparseDOSSA StartedAt: 2023-04-11 18:03:56 -0400 (Tue, 11 Apr 2023) EndedAt: 2023-04-11 18:04:40 -0400 (Tue, 11 Apr 2023) EllapsedTime: 43.4 seconds RetCode: 0 Status: OK PackageFile: sparseDOSSA_1.23.0.tar.gz PackageFileSize: 970 KiB