git_url: https://git.bioconductor.org/packages/scDataviz
git_branch: devel
git_last_commit: 0a59ec6
git_last_commit_date: 2022-11-01 11:22:26 -0400 (Tue, 01 Nov 2022)
Package: scDataviz
Version: 1.9.0
Maintainer: Kevin Blighe
MaintainerEmail: kevin at clinicalbioinformatics.co.uk