Package: scBubbletree Version: 1.1.9 Command: /home/biocbuild/bbs-3.17-bioc/R/bin/R CMD INSTALL scBubbletree StartedAt: 2023-04-12 01:55:14 -0400 (Wed, 12 Apr 2023) EndedAt: 2023-04-12 01:55:36 -0400 (Wed, 12 Apr 2023) EllapsedTime: 22.4 seconds RetCode: 0 Status: OK