Package: scBubbletree Version: 1.1.9 Command: /home/biocbuild/bbs-3.17-bioc/R/bin/R CMD check --install=check:scBubbletree.install-out.txt --library=/home/biocbuild/bbs-3.17-bioc/R/site-library --timings scBubbletree_1.1.9.tar.gz StartedAt: 2023-04-12 09:07:52 -0400 (Wed, 12 Apr 2023) EndedAt: 2023-04-12 09:17:47 -0400 (Wed, 12 Apr 2023) EllapsedTime: 594.4 seconds RetCode: 0 Status: OK CheckDir: scBubbletree.Rcheck Warnings: 0