Package: scBubbletree Version: 1.1.9 Command: /home/biocbuild/bbs-3.17-bioc/R/bin/R CMD build --keep-empty-dirs --no-resave-data scBubbletree StartedAt: 2023-04-12 04:03:27 -0400 (Wed, 12 Apr 2023) EndedAt: 2023-04-12 04:08:49 -0400 (Wed, 12 Apr 2023) EllapsedTime: 321.9 seconds RetCode: 0 Status: OK PackageFile: scBubbletree_1.1.9.tar.gz PackageFileSize: 2.126 MiB