Package: scBubbletree Version: 1.1.9 Command: /home/biocbuild/bbs-3.17-bioc/R/bin/R CMD build --keep-empty-dirs --no-resave-data scBubbletree StartedAt: 2023-04-11 17:50:53 -0400 (Tue, 11 Apr 2023) EndedAt: 2023-04-11 17:56:18 -0400 (Tue, 11 Apr 2023) EllapsedTime: 324.7 seconds RetCode: 0 Status: OK PackageFile: scBubbletree_1.1.9.tar.gz PackageFileSize: 2.125 MiB