Package: hypergraph
Version: 1.71.0
Command: /home/biocbuild/bbs-3.17-bioc/R/bin/R CMD INSTALL hypergraph
StartedAt: 2023-04-12 01:34:09 -0400 (Wed, 12 Apr 2023)
EndedAt: 2023-04-12 01:34:23 -0400 (Wed, 12 Apr 2023)
EllapsedTime: 13.9 seconds
RetCode: 0
Status: OK