Package: ddPCRclust
Version: 1.19.0
Command: /home/biocbuild/bbs-3.17-bioc/R/bin/R CMD INSTALL ddPCRclust
StartedAt: 2023-04-12 02:02:00 -0400 (Wed, 12 Apr 2023)
EndedAt: 2023-04-12 02:02:25 -0400 (Wed, 12 Apr 2023)
EllapsedTime: 24.6 seconds
RetCode: 0
Status: OK