Package: customProDB
Version: 1.39.0
Command: /home/biocbuild/bbs-3.17-bioc/R/bin/R CMD INSTALL customProDB
StartedAt: 2023-04-12 01:46:43 -0400 (Wed, 12 Apr 2023)
EndedAt: 2023-04-12 01:47:50 -0400 (Wed, 12 Apr 2023)
EllapsedTime: 66.6 seconds
RetCode: 0
Status: OK