Package: SubCellBarCode
Version: 1.15.0
Command: /home/biocbuild/bbs-3.17-bioc/R/bin/R CMD INSTALL SubCellBarCode
StartedAt: 2023-04-12 01:58:36 -0400 (Wed, 12 Apr 2023)
EndedAt: 2023-04-12 01:59:10 -0400 (Wed, 12 Apr 2023)
EllapsedTime: 34.1 seconds
RetCode: 0
Status: OK