Package: SubCellBarCode
Version: 1.15.0
Command: /home/biocbuild/bbs-3.17-bioc/R/bin/R CMD INSTALL SubCellBarCode
StartedAt: 2023-04-11 15:33:10 -0400 (Tue, 11 Apr 2023)
EndedAt: 2023-04-11 15:33:36 -0400 (Tue, 11 Apr 2023)
EllapsedTime: 25.6 seconds
RetCode: 0
Status: OK