Package: SpatialFeatureExperiment
Version: 1.1.5
Command: /home/biocbuild/bbs-3.17-bioc/R/bin/R CMD build --keep-empty-dirs --no-resave-data SpatialFeatureExperiment
StartedAt: 2023-04-12 04:15:52 -0400 (Wed, 12 Apr 2023)
EndedAt: 2023-04-12 04:17:08 -0400 (Wed, 12 Apr 2023)
EllapsedTime: 76.3 seconds
RetCode: 0
Status: OK
PackageFile: SpatialFeatureExperiment_1.1.5.tar.gz
PackageFileSize: 2.107 <A href="http://en.wikipedia.org/wiki/MiB" target="_blank">MiB</A>