Package: SpatialFeatureExperiment Version: 1.1.5 Command: /home/biocbuild/bbs-3.17-bioc/R/bin/R CMD check --install=check:SpatialFeatureExperiment.install-out.txt --library=/home/biocbuild/bbs-3.17-bioc/R/site-library --timings SpatialFeatureExperiment_1.1.5.tar.gz StartedAt: 2023-04-11 23:46:25 -0400 (Tue, 11 Apr 2023) EndedAt: 2023-04-11 23:53:07 -0400 (Tue, 11 Apr 2023) EllapsedTime: 401.9 seconds RetCode: 0 Status: OK CheckDir: SpatialFeatureExperiment.Rcheck Warnings: 0