Package: SeqArray Version: 1.39.2 Command: /home/biocbuild/bbs-3.17-bioc/R/bin/R CMD build --keep-empty-dirs --no-resave-data SeqArray StartedAt: 2023-04-11 17:57:37 -0400 (Tue, 11 Apr 2023) EndedAt: 2023-04-11 17:59:54 -0400 (Tue, 11 Apr 2023) EllapsedTime: 136.6 seconds RetCode: 0 Status: OK PackageFile: SeqArray_1.39.2.tar.gz PackageFileSize: 3.426 MiB