git_url: https://git.bioconductor.org/packages/SQLDataFrame
git_branch: devel
git_last_commit: 10fa5ae
git_last_commit_date: 2022-11-01 11:20:02 -0400 (Tue, 01 Nov 2022)
Package: SQLDataFrame
Version: 1.13.0
Maintainer: Qian Liu
MaintainerEmail: qian.liu at roswellpark.org