Package: SCAN.UPC Version: 2.41.0 Command: /home/biocbuild/bbs-3.17-bioc/R/bin/R CMD build --keep-empty-dirs --no-resave-data SCAN.UPC StartedAt: 2023-04-12 04:02:43 -0400 (Wed, 12 Apr 2023) EndedAt: 2023-04-12 04:03:18 -0400 (Wed, 12 Apr 2023) EllapsedTime: 34.1 seconds RetCode: 0 Status: OK PackageFile: SCAN.UPC_2.41.0.tar.gz PackageFileSize: 554.9 KiB