Package: ReUseData
Version: 0.99.38
Command: /home/biocbuild/bbs-3.17-bioc/R/bin/R CMD build --keep-empty-dirs --no-resave-data ReUseData
StartedAt: 2023-04-12 03:55:13 -0400 (Wed, 12 Apr 2023)
EndedAt: 2023-04-12 03:56:00 -0400 (Wed, 12 Apr 2023)
EllapsedTime: 47.2 seconds
RetCode: 0
Status: OK
PackageFile: ReUseData_0.99.38.tar.gz
PackageFileSize: 870.9 <A href="http://en.wikipedia.org/wiki/KiB" target="_blank">KiB</A>