Package: NanoStringQCPro
Version: 1.31.1
Command: /home/biocbuild/bbs-3.17-bioc/R/bin/R CMD INSTALL NanoStringQCPro
StartedAt: 2023-04-12 01:40:38 -0400 (Wed, 12 Apr 2023)
EndedAt: 2023-04-12 01:41:07 -0400 (Wed, 12 Apr 2023)
EllapsedTime: 29.1 seconds
RetCode: 0
Status: OK