Package: MultiAssayExperiment
Version: 1.25.9
Command: /home/biocbuild/bbs-3.17-bioc/R/bin/R CMD INSTALL MultiAssayExperiment
StartedAt: 2023-04-12 01:37:22 -0400 (Wed, 12 Apr 2023)
EndedAt: 2023-04-12 01:37:57 -0400 (Wed, 12 Apr 2023)
EllapsedTime: 35.6 seconds
RetCode: 0
Status: OK