Package: GraphAT
Version: 1.71.0
Command: /home/biocbuild/bbs-3.17-bioc/R/bin/R CMD INSTALL GraphAT
StartedAt: 2023-04-11 15:30:33 -0400 (Tue, 11 Apr 2023)
EndedAt: 2023-04-11 15:30:41 -0400 (Tue, 11 Apr 2023)
EllapsedTime: 8.3 seconds
RetCode: 0
Status: OK