git_url: https://git.bioconductor.org/packages/ClusterSignificance
git_branch: devel
git_last_commit: 4fca82d
git_last_commit_date: 2022-11-01 11:13:35 -0400 (Tue, 01 Nov 2022)
Package: ClusterSignificance
Version: 1.27.0
Maintainer: Jason T Serviss
MaintainerEmail: jason.serviss at ki.se