Package: BioMVCClass
Version: 1.67.0
Command: /home/biocbuild/bbs-3.17-bioc/R/bin/R CMD build --keep-empty-dirs --no-resave-data BioMVCClass
StartedAt: 2023-04-11 15:56:01 -0400 (Tue, 11 Apr 2023)
EndedAt: 2023-04-11 15:56:07 -0400 (Tue, 11 Apr 2023)
EllapsedTime: 5.7 seconds
RetCode: 0
Status: OK
PackageFile: BioMVCClass_1.67.0.tar.gz
PackageFileSize: 131.4 <A href="http://en.wikipedia.org/wiki/KiB" target="_blank">KiB</A>