Package: BasicSTARRseq
Version: 1.27.0
Command: /home/biocbuild/bbs-3.17-bioc/R/bin/R CMD INSTALL BasicSTARRseq
StartedAt: 2023-04-12 01:41:12 -0400 (Wed, 12 Apr 2023)
EndedAt: 2023-04-12 01:41:52 -0400 (Wed, 12 Apr 2023)
EllapsedTime: 40.3 seconds
RetCode: 0
Status: OK