Package: ffpeExampleData
Version: 1.38.0
Command: /home/biocbuild/bbs-3.17-bioc/R/bin/R CMD INSTALL ffpeExampleData
StartedAt: 2023-10-12 10:11:28 -0400 (Thu, 12 Oct 2023)
EndedAt: 2023-10-12 10:11:55 -0400 (Thu, 12 Oct 2023)
EllapsedTime: 27.5 seconds
RetCode: 0
Status: OK