Package: ffpeExampleData Version: 1.38.0 Command: /home/biocbuild/bbs-3.17-bioc/R/bin/R CMD build --keep-empty-dirs --no-resave-data ffpeExampleData StartedAt: 2023-10-12 10:26:09 -0400 (Thu, 12 Oct 2023) EndedAt: 2023-10-12 10:26:10 -0400 (Thu, 12 Oct 2023) EllapsedTime: 1.0 seconds RetCode: 0 Status: OK PackageFile: ffpeExampleData_1.38.0.tar.gz PackageFileSize: 6.727 <A href="http://en.wikipedia.org/wiki/MiB" target="_blank">MiB</A>