Package: RTCGA.mRNA
Version: 1.28.0
Command: /home/biocbuild/bbs-3.17-bioc/R/bin/R CMD INSTALL RTCGA.mRNA
StartedAt: 2023-10-12 10:03:10 -0400 (Thu, 12 Oct 2023)
EndedAt: 2023-10-12 10:04:01 -0400 (Thu, 12 Oct 2023)
EllapsedTime: 50.8 seconds
RetCode: 0
Status: OK