Package: HarmonizedTCGAData Version: 1.22.0 Command: /home/biocbuild/bbs-3.17-bioc/R/bin/R CMD INSTALL HarmonizedTCGAData StartedAt: 2023-10-12 10:04:15 -0400 (Thu, 12 Oct 2023) EndedAt: 2023-10-12 10:04:29 -0400 (Thu, 12 Oct 2023) EllapsedTime: 13.7 seconds RetCode: 0 Status: OK