Package: HarmonizedTCGAData Version: 1.22.0 Command: /home/biocbuild/bbs-3.17-bioc/R/bin/R CMD check --install=check:HarmonizedTCGAData.install-out.txt --library=/home/biocbuild/bbs-3.17-bioc/R/site-library --timings HarmonizedTCGAData_1.22.0.tar.gz StartedAt: 2023-10-12 11:28:03 -0400 (Thu, 12 Oct 2023) EndedAt: 2023-10-12 11:30:20 -0400 (Thu, 12 Oct 2023) EllapsedTime: 137.1 seconds RetCode: 0 Status: OK CheckDir: HarmonizedTCGAData.Rcheck Warnings: 0