Package: HarmonizedTCGAData Version: 1.22.0 Command: /home/biocbuild/bbs-3.17-bioc/R/bin/R CMD build --keep-empty-dirs --no-resave-data HarmonizedTCGAData StartedAt: 2023-10-12 10:32:00 -0400 (Thu, 12 Oct 2023) EndedAt: 2023-10-12 10:32:35 -0400 (Thu, 12 Oct 2023) EllapsedTime: 35.3 seconds RetCode: 0 Status: OK PackageFile: HarmonizedTCGAData_1.22.0.tar.gz PackageFileSize: 719.3 KiB