Package: DropletTestFiles
Version: 1.10.0
Command: /home/biocbuild/bbs-3.17-bioc/R/bin/R CMD INSTALL DropletTestFiles
StartedAt: 2023-10-12 10:05:04 -0400 (Thu, 12 Oct 2023)
EndedAt: 2023-10-12 10:05:19 -0400 (Thu, 12 Oct 2023)
EllapsedTime: 14.8 seconds
RetCode: 0
Status: OK