git_url: https://git.bioconductor.org/packages/BeadArrayUseCases
git_branch: RELEASE_3_17
git_last_commit: c9e0faa
git_last_commit_date: 2023-04-25 09:54:00 -0400 (Tue, 25 Apr 2023)
Package: BeadArrayUseCases
Version: 1.38.0
Maintainer: Mike Smith
MaintainerEmail: grimbough at gmail.com