Package: NanoStringDiff
Version: 1.30.0
Command: rm -rf NanoStringDiff.buildbin-libdir && mkdir NanoStringDiff.buildbin-libdir && /Users/biocbuild/BBS/utils/build-universal.sh NanoStringDiff_1.30.0.tar.gz /Library/Frameworks/R.framework/Resources/bin/R NanoStringDiff.buildbin-libdir
StartedAt: 2023-10-19 15:22:47 -0400 (Thu, 19 Oct 2023)
EndedAt: 2023-10-19 15:23:19 -0400 (Thu, 19 Oct 2023)
EllapsedTime: 31.9 seconds
RetCode: 0
Status: OK
PackageFile: NanoStringDiff_1.30.0.tgz
PackageFileSize: 468.5 <A href="http://en.wikipedia.org/wiki/KiB" target="_blank">KiB</A>