Package: arrays
Version: 1.24.0
Command: /home/biocbuild/bbs-3.16-bioc/R/bin/R CMD INSTALL arrays
StartedAt: 2023-04-11 11:00:06 -0400 (Tue, 11 Apr 2023)
EndedAt: 2023-04-11 11:00:08 -0400 (Tue, 11 Apr 2023)
EllapsedTime: 2.1 seconds
RetCode: 0
Status: OK