Package: scRNAseq
Version: 2.12.0
Command: /home/biocbuild/bbs-3.16-bioc/R/bin/R CMD INSTALL scRNAseq
StartedAt: 2023-04-11 10:05:31 -0400 (Tue, 11 Apr 2023)
EndedAt: 2023-04-11 10:06:23 -0400 (Tue, 11 Apr 2023)
EllapsedTime: 51.2 seconds
RetCode: 0
Status: OK