Package: ffpeExampleData
Version: 1.36.0
Command: /home/biocbuild/bbs-3.16-bioc/R/bin/R CMD check --install=check:ffpeExampleData.install-out.txt --library=/home/biocbuild/bbs-3.16-bioc/R/site-library --timings ffpeExampleData_1.36.0.tar.gz
StartedAt: 2023-04-11 11:44:58 -0400 (Tue, 11 Apr 2023)
EndedAt: 2023-04-11 11:47:13 -0400 (Tue, 11 Apr 2023)
EllapsedTime: 135.0 seconds
RetCode: 0
Status: OK
CheckDir: ffpeExampleData.Rcheck
Warnings: 0