Package: chipseqDBData
Version: 1.14.0
Command: /home/biocbuild/bbs-3.16-bioc/R/bin/R CMD INSTALL chipseqDBData
StartedAt: 2023-04-11 10:05:21 -0400 (Tue, 11 Apr 2023)
EndedAt: 2023-04-11 10:05:47 -0400 (Tue, 11 Apr 2023)
EllapsedTime: 25.7 seconds
RetCode: 0
Status: OK