git_url: https://git.bioconductor.org/packages/TCGAWorkflowData
git_branch: RELEASE_3_16
git_last_commit: f44df94
git_last_commit_date: 2022-11-01 11:16:28 -0400 (Tue, 01 Nov 2022)
Package: TCGAWorkflowData
Version: 1.22.0
Maintainer: Tiago Chedraoui Silva
MaintainerEmail: tiagochst at usp.br